BEGIN:VCALENDAR
VERSION:2.0
PRODID:-//hacksw/handcal//NONSGML v1.0//EN
BEGIN:VEVENT
SUMMARY:U17 - Sud Gascogne / SCPAS
UID:5c8097f9-a09c-4b1a-9772-9c15c9a35bfc
DTSTART:20260502T130000Z
DTEND:20260502T144500Z
LOCATION:Localisation Stade Paul Vignaux 32220 Lombez
CATEGORIES:Sportif
STATUS:
URL;VALUE=URI:https://efllm.sportsregions.fr/evenements/2026/05/02/u17-sud-gascogne-scpas-2443459
END:VEVENT
END:VCALENDAR
