BEGIN:VCALENDAR
VERSION:2.0
PRODID:-//hacksw/handcal//NONSGML v1.0//EN
BEGIN:VEVENT
SUMMARY:U15 - Sud Gascogne / GFS
UID:3376e14a-ae2b-475e-85fa-1416ba1894af
DTSTART:20260502T110000Z
DTEND:20260502T124500Z
LOCATION:Localisation Stade Paul Vignaux 32220 Lombez
CATEGORIES:Sportif
STATUS:
URL;VALUE=URI:https://efllm.sportsregions.fr/evenements/2026/05/02/u15-sud-gascogne-gfs-2443416
END:VEVENT
END:VCALENDAR
